BEGIN:VCALENDAR
VERSION:2.0
PRODID:-//Dahl erleben - ECPv6.15.17//NONSGML v1.0//EN
CALSCALE:GREGORIAN
METHOD:PUBLISH
X-WR-CALNAME:Dahl erleben
X-ORIGINAL-URL:https://www.dahl-erleben.de
X-WR-CALDESC:Veranstaltungen für Dahl erleben
REFRESH-INTERVAL;VALUE=DURATION:PT1H
X-Robots-Tag:noindex
X-PUBLISHED-TTL:PT1H
BEGIN:VTIMEZONE
TZID:Europe/Berlin
BEGIN:DAYLIGHT
TZOFFSETFROM:+0100
TZOFFSETTO:+0200
TZNAME:CEST
DTSTART:20250330T010000
END:DAYLIGHT
BEGIN:STANDARD
TZOFFSETFROM:+0200
TZOFFSETTO:+0100
TZNAME:CET
DTSTART:20251026T010000
END:STANDARD
BEGIN:DAYLIGHT
TZOFFSETFROM:+0100
TZOFFSETTO:+0200
TZNAME:CEST
DTSTART:20260329T010000
END:DAYLIGHT
BEGIN:STANDARD
TZOFFSETFROM:+0200
TZOFFSETTO:+0100
TZNAME:CET
DTSTART:20261025T010000
END:STANDARD
BEGIN:DAYLIGHT
TZOFFSETFROM:+0100
TZOFFSETTO:+0200
TZNAME:CEST
DTSTART:20270328T010000
END:DAYLIGHT
BEGIN:STANDARD
TZOFFSETFROM:+0200
TZOFFSETTO:+0100
TZNAME:CET
DTSTART:20271031T010000
END:STANDARD
END:VTIMEZONE
BEGIN:VEVENT
DTSTART;TZID=Europe/Berlin:20260317T113000
DTEND;TZID=Europe/Berlin:20260317T140000
DTSTAMP:20260424T121622
CREATED:20251126T092641Z
LAST-MODIFIED:20251126T093347Z
UID:2866-1773747000-1773756000@www.dahl-erleben.de
SUMMARY:Senioren G60+ Mittagstisch
DESCRIPTION:„Essen hält Leib und Seele zusammen“ \nNachdem unser Mittagstisch erfolgreich gestartet ist\, freuen wir uns auch in 2026\nwieder auf diese schönen Treffen zum gemeinsam Essen und Klönen. \nWir bitten um Anmeldung bis 2 Wochen vorher bei\nMonika Schmitz-Rohlfs\, Tel. 931143 mschmiro@ t-online.de oder Elisabeth Grütter\, Tel. 1619\nTeilnehmerzahl ist begrenzt! \n 
URL:https://www.dahl-erleben.de/event/senioren-g60-mittagstisch-3/
LOCATION:Pfarrheim\, Schlotmannstraße 15\, Paderborn - Dahl\, 33100\, Deutschland
CATEGORIES:Allgemein,Senioren
ATTACH;FMTTYPE=image/jpeg:https://www.dahl-erleben.de/wp-content/uploads/2025/11/GfD_Mittagessen-scaled.jpg
ORGANIZER;CN="GfD - Gemeinsam f%C3%BCr Dahl":MAILTO:mschmiro@ t-online.de
END:VEVENT
BEGIN:VEVENT
DTSTART;TZID=Europe/Berlin:20260321T090000
DTEND;TZID=Europe/Berlin:20260321T150000
DTSTAMP:20260424T121622
CREATED:20250313T174355Z
LAST-MODIFIED:20260309T175715Z
UID:2712-1774083600-1774105200@www.dahl-erleben.de
SUMMARY:Frühjahrsputz in Dahl
DESCRIPTION:Am Samstag\, den 21. März\, findet wieder die Frühjahrsputz-Aktion in Dahl statt. \nDie Teilnehmer treffen sich um 09:00 Uhr mit wetterfester Kleidung\, Handschuhen und Eimern am Feuerwehrgerätehaus in Dahl. Alle Dahler Bürgerinnen und Bürger sind herzlich eingeladen\, sich an der Aktion zu beteiligen. Im Anschluss gibt es kühle Getränke und Bratwurst an der Hubertusklause. Für die Aktion werden Fahrzeuge mit Anhängern benötigt. Anmeldungen hierzu bitte bei Jörg Neumann Tel. 0151/43229939 oder Hubert Schonlau Tel. 0176/53579169. \nHerzlichen Dank schon mal im Voraus für Ihre/Eure Mitwirkung! \nhttps://www.dahler-schuetzen.de/Aktuelles.htm \n 
URL:https://www.dahl-erleben.de/event/fruehjahrsputz-in-dahl/
LOCATION:Feuewehrgerätehaus\, Grundsteinheimer Weg 1\, Paderborn\, 33100
CATEGORIES:Allgemein,Verein
ATTACH;FMTTYPE=image/png:https://www.dahl-erleben.de/wp-content/uploads/2025/03/Fruehjahresputz-2025.png
END:VEVENT
BEGIN:VEVENT
DTSTART;TZID=Europe/Berlin:20260322T100000
DTEND;TZID=Europe/Berlin:20260322T150000
DTSTAMP:20260424T121622
CREATED:20260312T102230Z
LAST-MODIFIED:20260312T102320Z
UID:2969-1774173600-1774191600@www.dahl-erleben.de
SUMMARY:Wanderung: Lippeauen - Waldsee
DESCRIPTION:Treffpunkt am Dorfplatz\nWanderführer: H. und B. Sallen
URL:https://www.dahl-erleben.de/event/lippeauen-waldsee/
LOCATION:Dorfplatz\, Ellerstr. 5\, Paderborn\, 33100
CATEGORIES:Verein
ATTACH;FMTTYPE=image/jpeg:https://www.dahl-erleben.de/wp-content/uploads/2023/10/dahl-webseite-termine.jpg
END:VEVENT
END:VCALENDAR