BEGIN:VCALENDAR
VERSION:2.0
PRODID:-//Dahl erleben - ECPv6.15.17//NONSGML v1.0//EN
CALSCALE:GREGORIAN
METHOD:PUBLISH
X-WR-CALNAME:Dahl erleben
X-ORIGINAL-URL:https://www.dahl-erleben.de
X-WR-CALDESC:Veranstaltungen für Dahl erleben
REFRESH-INTERVAL;VALUE=DURATION:PT1H
X-Robots-Tag:noindex
X-PUBLISHED-TTL:PT1H
BEGIN:VTIMEZONE
TZID:Europe/Berlin
BEGIN:DAYLIGHT
TZOFFSETFROM:+0100
TZOFFSETTO:+0200
TZNAME:CEST
DTSTART:20250330T010000
END:DAYLIGHT
BEGIN:STANDARD
TZOFFSETFROM:+0200
TZOFFSETTO:+0100
TZNAME:CET
DTSTART:20251026T010000
END:STANDARD
BEGIN:DAYLIGHT
TZOFFSETFROM:+0100
TZOFFSETTO:+0200
TZNAME:CEST
DTSTART:20260329T010000
END:DAYLIGHT
BEGIN:STANDARD
TZOFFSETFROM:+0200
TZOFFSETTO:+0100
TZNAME:CET
DTSTART:20261025T010000
END:STANDARD
BEGIN:DAYLIGHT
TZOFFSETFROM:+0100
TZOFFSETTO:+0200
TZNAME:CEST
DTSTART:20270328T010000
END:DAYLIGHT
BEGIN:STANDARD
TZOFFSETFROM:+0200
TZOFFSETTO:+0100
TZNAME:CET
DTSTART:20271031T010000
END:STANDARD
END:VTIMEZONE
BEGIN:VEVENT
DTSTART;TZID=Europe/Berlin:20260501T130000
DTEND;TZID=Europe/Berlin:20260501T190000
DTSTAMP:20260424T122118
CREATED:20260412T134505Z
LAST-MODIFIED:20260419T133257Z
UID:3003-1777640400-1777662000@www.dahl-erleben.de
SUMMARY:Maifeier
DESCRIPTION:Wir starten um 13:00 Uhr am Dorfplatz.\nUm 13:30 Uhr wird der Maibaum hochgezogen. \nWir freuen uns auf die Auftritte unserer Minis und Funken.\nAußerdem bieten wir Kinderschminken an. \nFür das leibliche Wohl ist gesorgt.\nWir freuen uns auf schöne Stunden mit euch\, euren Freunden und Familien.
URL:https://www.dahl-erleben.de/event/maifeier-2/
LOCATION:Dorfplatz\, Ellerstr. 5\, Paderborn\, 33100
CATEGORIES:Allgemein,Kultur
ATTACH;FMTTYPE=image/jpeg:https://www.dahl-erleben.de/wp-content/uploads/2026/04/70442b28-4d9f-4e73-ac43-3bcc79c8fbb1.jpeg
ORGANIZER;CN="Karnevals-Verein Dahl 'Ellernarren' 2011 e.V.":MAILTO:ellernarren@gmail.com
END:VEVENT
BEGIN:VEVENT
DTSTART;TZID=Europe/Berlin:20260502T193000
DTEND;TZID=Europe/Berlin:20260502T233000
DTSTAMP:20260424T122118
CREATED:20251014T170224Z
LAST-MODIFIED:20260107T193612Z
UID:2851-1777750200-1777764600@www.dahl-erleben.de
SUMMARY:Jubiläumsparty - 100 Jahre Musikverein
DESCRIPTION:Der MvD feiert 2026 sein 100-jähriges Bestehen.\nDazu findet am 02.05.2026 eine Jubiläumsparty in der Dahler Halle statt. Für Partystimmung sorgt zum einen die Party-Brass-Band Wellblech – Sauerland\, die überregional bekannt ist für gute Stimmung! Zum anderen sorgt nach dem Konzert von Wellblech ein DJ für Partystimmung.\n\nNatürlich ist auch für Essen und Trinken ausreichend gesorgt!
URL:https://www.dahl-erleben.de/event/jubilaeumsparty-100-jahre-musikverein/
LOCATION:Mehrzweckhalle\, Grundsteinheimer Weg 30\, Paderborn-Dahl\, 33100
CATEGORIES:Kultur,Party
ATTACH;FMTTYPE=image/jpeg:https://www.dahl-erleben.de/wp-content/uploads/2025/10/20251124_Plakat_Musikverein_3mm_mitMarken.jpg
END:VEVENT
BEGIN:VEVENT
DTSTART;TZID=Europe/Berlin:20260512T113000
DTEND;TZID=Europe/Berlin:20260512T140000
DTSTAMP:20260424T122118
CREATED:20251127T093206Z
LAST-MODIFIED:20251127T093206Z
UID:2871-1778585400-1778594400@www.dahl-erleben.de
SUMMARY:Senioren G60+ Mittagstisch
DESCRIPTION:„Essen hält Leib und Seele zusammen“ \nNachdem unser Mittagstisch erfolgreich gestartet ist\, freuen wir uns auch in 2026\nwieder auf diese schönen Treffen zum gemeinsam Essen und Klönen. \nWir bitten um Anmeldung bis 2 Wochen vorher bei\nMonika Schmitz-Rohlfs\, Tel. 931143 mschmiro@ t-online.de oder Elisabeth Grütter\, Tel. 1619\nTeilnehmerzahl ist begrenzt! \n 
URL:https://www.dahl-erleben.de/event/senioren-g60-mittagstisch-5/
LOCATION:Pfarrheim\, Schlotmannstraße 15\, Paderborn - Dahl\, 33100\, Deutschland
CATEGORIES:Allgemein,Senioren
ATTACH;FMTTYPE=image/jpeg:https://www.dahl-erleben.de/wp-content/uploads/2025/11/GfD_Mittagessen-scaled.jpg
ORGANIZER;CN="GfD - Gemeinsam f%C3%BCr Dahl":MAILTO:mschmiro@ t-online.de
END:VEVENT
BEGIN:VEVENT
DTSTART;TZID=Europe/Berlin:20260517T100000
DTEND;TZID=Europe/Berlin:20260517T140000
DTSTAMP:20260424T122118
CREATED:20260312T102525Z
LAST-MODIFIED:20260312T102525Z
UID:2974-1779012000-1779026400@www.dahl-erleben.de
SUMMARY:Rundwanderung Kempen
DESCRIPTION:Treffpunkt am Dorfplatz\nWanderführer: H. Höing
URL:https://www.dahl-erleben.de/event/rundwanderung-kempen/
LOCATION:Dorfplatz\, Ellerstr. 5\, Paderborn\, 33100
CATEGORIES:Verein
ATTACH;FMTTYPE=image/jpeg:https://www.dahl-erleben.de/wp-content/uploads/2023/10/dahl-webseite-termine.jpg
END:VEVENT
END:VCALENDAR